BEGIN:VCALENDAR
VERSION:2.0
PRODID:-//NOMRO.de-Veranstaltungen - ECPv6.15.17.1//NONSGML v1.0//EN
CALSCALE:GREGORIAN
METHOD:PUBLISH
X-ORIGINAL-URL:https://events.nomro.de
X-WR-CALDESC:Veranstaltungen für NOMRO.de-Veranstaltungen
REFRESH-INTERVAL;VALUE=DURATION:PT1H
X-Robots-Tag:noindex
X-PUBLISHED-TTL:PT1H
BEGIN:VTIMEZONE
TZID:Europe/Berlin
BEGIN:DAYLIGHT
TZOFFSETFROM:+0100
TZOFFSETTO:+0200
TZNAME:CEST
DTSTART:20260329T010000
END:DAYLIGHT
BEGIN:STANDARD
TZOFFSETFROM:+0200
TZOFFSETTO:+0100
TZNAME:CET
DTSTART:20261025T010000
END:STANDARD
BEGIN:DAYLIGHT
TZOFFSETFROM:+0100
TZOFFSETTO:+0200
TZNAME:CEST
DTSTART:20270328T010000
END:DAYLIGHT
BEGIN:STANDARD
TZOFFSETFROM:+0200
TZOFFSETTO:+0100
TZNAME:CET
DTSTART:20271031T010000
END:STANDARD
BEGIN:DAYLIGHT
TZOFFSETFROM:+0100
TZOFFSETTO:+0200
TZNAME:CEST
DTSTART:20280326T010000
END:DAYLIGHT
BEGIN:STANDARD
TZOFFSETFROM:+0200
TZOFFSETTO:+0100
TZNAME:CET
DTSTART:20281029T010000
END:STANDARD
END:VTIMEZONE
BEGIN:VEVENT
DTSTART;TZID=Europe/Berlin:20270125T200000
DTEND;TZID=Europe/Berlin:20270125T220000
DTSTAMP:20260421T131957
CREATED:20180925T154425Z
LAST-MODIFIED:20260404T082731Z
UID:4032-1800907200-1800914400@events.nomro.de
SUMMARY:Keine Angst vorm § 11 - Teil 8: Prüfungslernen
DESCRIPTION:An diesem Abend geht es ans Eingemachte! Du wirst mit Fragen aus den Fachgesprächen und dem DOQ-Test Pro konfrontiert und bekommst so einen Überblick\, ob du fit für Deine Prüfung bist. \nHier findest Du die Inhalte und weitere Infos zur Anmeldung. \nKeine Zeit?  \nEine Aufzeichnung dieser Webinarreihe kannst Du auch bei Coachy kaufen. 
URL:https://events.nomro.de/event/keine-angst-vorm-%c2%a7-11-teil-8-pruefungslernen/
LOCATION:Nordrhein-Westfalen
CATEGORIES:§11,Hundetrainerwerder,Webinare
ATTACH;FMTTYPE=:
ORGANIZER;CN="Normen Mrozinski":MAILTO:info@nomro.de
END:VEVENT
END:VCALENDAR